BEGIN:VCALENDAR
VERSION:2.0
PRODID:-//ChamberMaster//Event Calendar 2.0//EN
METHOD:PUBLISH
X-PUBLISHED-TTL:P1H
REFRESH-INTERVAL:P1H
CALSCALE:GREGORIAN
BEGIN:VTIMEZONE
TZID:America/New_York
BEGIN:DAYLIGHT
RRULE:FREQ=YEARLY;BYMONTH=3;BYDAY=2SU
DTSTART:20070101T000000
TZOFFSETFROM:-0500
TZOFFSETTO:-0400
TZNAME:Eastern Daylight Time
END:DAYLIGHT
BEGIN:STANDARD
RRULE:FREQ=YEARLY;BYMONTH=11;BYDAY=1SU
DTSTART:20070101T000000
TZOFFSETFROM:-0400
TZOFFSETTO:-0500
TZNAME:Eastern Standard Time
END:STANDARD
END:VTIMEZONE
BEGIN:VEVENT
DTSTART;TZID=America/New_York:20260617T163000
DTEND;TZID=America/New_York:20260617T180000
X-MICROSOFT-CDO-ALLDAYEVENT:FALSE
SUMMARY:Summer Networking Social - June 2026
DESCRIPTION:Elevate your networking experience - go beyond simple introductions. In a vibrant\, engaging setting\, you'll make meaningful connections in NAIOP\, build lasting partnerships\, and stay connected with peers across the industry. With a relaxed\, welcoming atmosphere\, this event offers the perfect opportunity to unwind\, exchange ideas\, and grow your network naturally. This event is exclusively for NAIOP Charlotte members. \nCANCELLATION POLICY\nCancellations must be received in writing. Cancellations received on or before June 10th are entitled to a full refund less a $10 processing fee. No refunds will be awarded for cancellations after June 10th or for no-shows.
X-ALT-DESC;FMTTYPE=text/html:<!DOCTYPE html><html><head><title></title></head><body aria-disabled="false"><p><br>Elevate your networking experience - go beyond simple introductions. In a vibrant\, engaging setting\, you&rsquo\;ll make meaningful connections in NAIOP\, build lasting partnerships\, and stay connected with peers across the industry. With a relaxed\, welcoming atmosphere\, this event offers the perfect opportunity to unwind\, exchange ideas\, and grow your network naturally.&nbsp\;</p><p style="text-align: center\;"><em>This event is exclusively for NAIOP Charlotte members.&nbsp\;</em></p><p><br><u><strong fr-original-style="" style="font-weight: 700\;">CANCELLATION POLICY</strong></u><br>Cancellations must be received in writing. Cancellations received on or before June 10th are entitled to a full refund less a $10 processing fee. No refunds will be awarded for cancellations after June 10th or for no-shows.</p><p>&nbsp\;</p></body></html>
LOCATION:800 Grandin Rd Charlotte NC 28208
UID:e.4365.1449911
SEQUENCE:3
DTSTAMP:20260423T220520Z
URL:https://members.naiopclt.org/eventcalendar/Details/summer-networking-social-june-2026-1717447?sourceTypeId=Hub
END:VEVENT
END:VCALENDAR
