BEGIN:VCALENDAR
VERSION:2.0
PRODID:-//ChamberMaster//Event Calendar 2.0//EN
METHOD:PUBLISH
X-PUBLISHED-TTL:P1H
REFRESH-INTERVAL:P1H
CALSCALE:GREGORIAN
BEGIN:VTIMEZONE
TZID:America/New_York
BEGIN:DAYLIGHT
RRULE:FREQ=YEARLY;BYMONTH=3;BYDAY=2SU
DTSTART:20070101T000000
TZOFFSETFROM:-0500
TZOFFSETTO:-0400
TZNAME:Eastern Daylight Time
END:DAYLIGHT
BEGIN:STANDARD
RRULE:FREQ=YEARLY;BYMONTH=11;BYDAY=1SU
DTSTART:20070101T000000
TZOFFSETFROM:-0400
TZOFFSETTO:-0500
TZNAME:Eastern Standard Time
END:STANDARD
END:VTIMEZONE
BEGIN:VEVENT
DTSTART;TZID=America/New_York:20260511T133000
DTEND;TZID=America/New_York:20260512T150000
X-MICROSOFT-CDO-ALLDAYEVENT:FALSE
SUMMARY:NAIOP NC 2026 Advocacy Days
DESCRIPTION:Day One: Featuring speakers to inform you on how to advocate for our industry effectively\, followed by updates on specific policy areas important to NAIOP members. The afternoon will culminate with a networking reception to connect with elected officials in an informal setting. Meeting will be held upstairs in the Fiera Bar & Lounge at Vidrio. 1:30 PM - 5:00 PM - Advocacy Day DiscussionLearn more about CRE Advocacy Issue Updates Economic Development Infrastructure Regulatory Reform 5:00 PM - 6:30 PM - Reception with Elected Officials at Vidrio Day Two: Join forces with industry colleagues as we go to Capitol Hill to offer a powerful\, unified voice to protect the vitality of the commercial real estate sector in North Carolina. 8:30 AM - 3:00 PM - Capitol Hill Visits Suggested Hotel: Hampton Inn & Suites Raleigh Downtown\, 600 Glenwood Ave | Raleigh\, NC 27603
X-ALT-DESC;FMTTYPE=text/html:<!DOCTYPE html><html><head><title></title></head><body aria-disabled="false"><p style="margin-left: 20px\;"><br><strong fr-original-style="" style="font-weight: 700\;">Day One:</strong> Featuring speakers to inform you on how to advocate for our industry effectively\, followed by updates on specific policy areas important to NAIOP members. The afternoon will culminate with a networking reception to connect with elected officials in an informal setting. Meeting will be held upstairs in the Fiera Bar &amp\; Lounge at Vidrio.&nbsp\;</p><p style="margin-left: 20px\;">1:30 PM - 5:00 PM - Advocacy Day Discussion</p><ul fr-original-style="" style="list-style-position: inside\;"><li>Learn more about CRE Advocacy&nbsp\;</li><li>Issue Updates&nbsp\;</li><li>Economic Development&nbsp\;</li><li>Infrastructure&nbsp\;</li><li>Regulatory Reform&nbsp\;</li></ul><p style="margin-left: 20px\;">5:00 PM - 6:30 PM - Reception with Elected Officials at <strong fr-original-style="" style="font-weight: 700\;">Vidrio</strong>&nbsp\;</p><p style="margin-left: 20px\;"><strong fr-original-style="" style="font-weight: 700\;">Day Two:</strong> Join forces with industry colleagues as we go to Capitol Hill to offer a powerful\, unified voice to protect the vitality of the commercial real estate sector in North Carolina.&nbsp\;</p><p style="margin-left: 20px\;">8:30 AM - 3:00 PM - Capitol Hill Visits&nbsp\;</p><p style="margin-left: 20px\;"><strong fr-original-style="" style="font-weight: 700\;">Suggested Hotel:</strong> Hampton Inn &amp\; Suites Raleigh Downtown\, 600 Glenwood Ave | Raleigh\, NC 27603</p></body></html>
LOCATION:500 Glenwood Ave Suite 100 Raleigh NC 27603
UID:e.4365.1442528
SEQUENCE:3
DTSTAMP:20260423T163415Z
URL:https://members.naiopclt.org/eventcalendar/Details/naiop-nc-2026-advocacy-days-1708562?sourceTypeId=Hub
END:VEVENT
END:VCALENDAR
