BEGIN:VCALENDAR
VERSION:2.0
PRODID:-//ChamberMaster//Event Calendar 2.0//EN
METHOD:PUBLISH
X-PUBLISHED-TTL:P1H
REFRESH-INTERVAL:P1H
CALSCALE:GREGORIAN
BEGIN:VTIMEZONE
TZID:America/New_York
BEGIN:DAYLIGHT
RRULE:FREQ=YEARLY;BYMONTH=3;BYDAY=2SU
DTSTART:20070101T000000
TZOFFSETFROM:-0500
TZOFFSETTO:-0400
TZNAME:Eastern Daylight Time
END:DAYLIGHT
BEGIN:STANDARD
RRULE:FREQ=YEARLY;BYMONTH=11;BYDAY=1SU
DTSTART:20070101T000000
TZOFFSETFROM:-0400
TZOFFSETTO:-0500
TZNAME:Eastern Standard Time
END:STANDARD
END:VTIMEZONE
BEGIN:VEVENT
DTSTART;TZID=America/New_York:20260527T100000
DTEND;TZID=America/New_York:20260527T120000
X-MICROSOFT-CDO-ALLDAYEVENT:FALSE
SUMMARY:2026 DL Community Service Project
DESCRIPTION:The Developing Leaders invite you to make a meaningful impact in our community through a hands-on volunteer opportunity. In partnership with the YMCA and in support of Nourish Up\, participants will assist with food distribution at a local branch\, helping ensure essential resources reach individuals and families in need.Volunteers will collaborate to sort and repackage bulk food donations such as fresh produce\, frozen items\, and pantry staples into individual boxes for distribution. Once prepared\, teams will help load these boxes into vehicles as part of an organized drive-through pickup\, serving both individuals and those collecting on behalf of others in the community.What to Expect:\nThis is a fast-paced\, team-oriented environment where volunteers play a critical role in efficiently preparing and distributing a high volume of food in a short period of time. Past events have served a significant number of families from across the region\, highlighting the real and immediate impact of this effort.Additional Notes:\nPlease dress comfortably and appropriately for active\, hands-on work. Closed-toe shoes are recommended\, and you may be standing\, lifting\, or working outdoors for portions of the event.This is a rewarding opportunity to give back\, connect with peers\, and directly support food access in our community in just a few hours.
X-ALT-DESC;FMTTYPE=text/html:<!DOCTYPE html><html><head><title></title></head><body aria-disabled="false"><p>The Developing Leaders invite you to make a meaningful impact in our community through a hands-on volunteer opportunity. In partnership with the YMCA and in support of Nourish Up\, participants will assist with food distribution at a local branch\, helping ensure essential resources reach individuals and families in need.</p><p>Volunteers will collaborate to sort and repackage bulk food donations&mdash\;such as fresh produce\, frozen items\, and pantry staples&mdash\;into individual boxes for distribution. Once prepared\, teams will help load these boxes into vehicles as part of an organized drive-through pickup\, serving both individuals and those collecting on behalf of others in the community.</p><p><strong fr-original-style="" style="font-weight: 700\;">What to Expect:</strong><br>This is a fast-paced\, team-oriented environment where volunteers play a critical role in efficiently preparing and distributing a high volume of food in a short period of time. Past events have served a significant number of families from across the region\, highlighting the real and immediate impact of this effort.</p><p><strong fr-original-style="" style="font-weight: 700\;">Additional Notes:</strong><br>Please dress comfortably and appropriately for active\, hands-on work. Closed-toe shoes are recommended\, and you may be standing\, lifting\, or working outdoors for portions of the event.</p><p>This is a rewarding opportunity to give back\, connect with peers\, and directly support food access in our community in just a few hours.</p><!--[if !supportLineBreakNewLine]--><p><br style="mso-special-character:line-break\;"></p><!--[endif]--><p><br></p></body></html>
LOCATION:3025 N Davidson St Charlotte NC 28205
UID:e.4365.1449097
SEQUENCE:3
DTSTAMP:20260423T161643Z
URL:https://members.naiopclt.org/eventcalendar/Details/2026-dl-community-service-project-1716400?sourceTypeId=Hub
END:VEVENT
END:VCALENDAR
